BEGIN:VCALENDAR
VERSION:2.0
PRODID:-//Start - ECPv6.15.20//NONSGML v1.0//EN
CALSCALE:GREGORIAN
METHOD:PUBLISH
X-WR-CALNAME:Start
X-ORIGINAL-URL:https://reichenbergerkiez.de
X-WR-CALDESC:Veranstaltungen für Start
REFRESH-INTERVAL;VALUE=DURATION:PT1H
X-Robots-Tag:noindex
X-PUBLISHED-TTL:PT1H
BEGIN:VTIMEZONE
TZID:Europe/Berlin
BEGIN:DAYLIGHT
TZOFFSETFROM:+0100
TZOFFSETTO:+0200
TZNAME:CEST
DTSTART:20230326T010000
END:DAYLIGHT
BEGIN:STANDARD
TZOFFSETFROM:+0200
TZOFFSETTO:+0100
TZNAME:CET
DTSTART:20231029T010000
END:STANDARD
BEGIN:DAYLIGHT
TZOFFSETFROM:+0100
TZOFFSETTO:+0200
TZNAME:CEST
DTSTART:20240331T010000
END:DAYLIGHT
BEGIN:STANDARD
TZOFFSETFROM:+0200
TZOFFSETTO:+0100
TZNAME:CET
DTSTART:20241027T010000
END:STANDARD
BEGIN:DAYLIGHT
TZOFFSETFROM:+0100
TZOFFSETTO:+0200
TZNAME:CEST
DTSTART:20250330T010000
END:DAYLIGHT
BEGIN:STANDARD
TZOFFSETFROM:+0200
TZOFFSETTO:+0100
TZNAME:CET
DTSTART:20251026T010000
END:STANDARD
END:VTIMEZONE
BEGIN:VEVENT
DTSTART;TZID=Europe/Berlin:20240922T140000
DTEND;TZID=Europe/Berlin:20240922T180000
DTSTAMP:20260420T020552
CREATED:20240918T161817Z
LAST-MODIFIED:20240918T161926Z
UID:736-1727013600-1727028000@reichenbergerkiez.de
SUMMARY:Spielstraße mit Theatre Fragile! 22.09.2024
DESCRIPTION:Highlight des Tages: AHOI! Von Theatre Fragile\nPoetische Komik des Alltags\nDrei Menschen aus verschiedenen Generationen treffen an einer Bushaltestelle aufeinander. Man könnte sie „Vergangenheit“ „Gegenwart“ und „Zukunft“ nennen. \nNoch wägen sie sich in ihrer eigenen Welt\, doch langsam wird klar – Sie haben ein gemeinsames Problem. Kein Bus zu sehen\, weit und breit! Zusammen treffen sie auf kleine Konflikte und eine großartige Lösung. \nBeginn: 16 Uhr \nhttps://theatre-fragile.de/de/nachrichten-kreationen-leser/ahoi.html \n\n  \n  \nDie Spielstraße: Im Sommer immer Sonntags\nImmer Sonntags im Sommer werden im Reichenberer Kiez Träume wahr: Alles\, was sonst auf der Straße nicht geht\, geht doch! Die Kinder einfach mal auf der Straße rennen und spielen\, Tischtennis oder Federball spielen\, Schwätzchen mit den Nachbarn halten\, Kaffee oder Limo trinken. lassen \nWo? Forster Str. zwischen Reichenberger Straße und Paul-Lincke-Ufer\, 10999 Berlin \nWann? Von Juni bis Ende September (außer Sommerferien) jeden Sonntag von 14 bis 18 Uhr \nUnterstüzer:innen gesucht! Kontakt: forster@spielstrassen.de
URL:https://reichenbergerkiez.de/event/736/
LOCATION:Forster Staße\, Forster Straße\, Berlin\, Berlin\, 10999\, Deutschland
END:VEVENT
END:VCALENDAR