BEGIN:VCALENDAR
VERSION:2.0
PRODID:-//Start - ECPv6.15.20//NONSGML v1.0//EN
CALSCALE:GREGORIAN
METHOD:PUBLISH
X-ORIGINAL-URL:https://reichenbergerkiez.de
X-WR-CALDESC:Veranstaltungen für Start
REFRESH-INTERVAL;VALUE=DURATION:PT1H
X-Robots-Tag:noindex
X-PUBLISHED-TTL:PT1H
BEGIN:VTIMEZONE
TZID:Europe/Berlin
BEGIN:DAYLIGHT
TZOFFSETFROM:+0100
TZOFFSETTO:+0200
TZNAME:CEST
DTSTART:20230326T010000
END:DAYLIGHT
BEGIN:STANDARD
TZOFFSETFROM:+0200
TZOFFSETTO:+0100
TZNAME:CET
DTSTART:20231029T010000
END:STANDARD
BEGIN:DAYLIGHT
TZOFFSETFROM:+0100
TZOFFSETTO:+0200
TZNAME:CEST
DTSTART:20240331T010000
END:DAYLIGHT
BEGIN:STANDARD
TZOFFSETFROM:+0200
TZOFFSETTO:+0100
TZNAME:CET
DTSTART:20241027T010000
END:STANDARD
BEGIN:DAYLIGHT
TZOFFSETFROM:+0100
TZOFFSETTO:+0200
TZNAME:CEST
DTSTART:20250330T010000
END:DAYLIGHT
BEGIN:STANDARD
TZOFFSETFROM:+0200
TZOFFSETTO:+0100
TZNAME:CET
DTSTART:20251026T010000
END:STANDARD
END:VTIMEZONE
BEGIN:VEVENT
DTSTART;TZID=Europe/Berlin:20240929T140000
DTEND;TZID=Europe/Berlin:20240929T180000
DTSTAMP:20260420T020100
CREATED:20240918T162143Z
LAST-MODIFIED:20240923T201350Z
UID:739-1727618400-1727632800@reichenbergerkiez.de
SUMMARY:Spielstraße mit Straßenperformance "Müllomania"\, 29.09.2024
DESCRIPTION:Highlight des Tages: Straßenperformance „Müllomania“\nWillkommen zur aufregenden Straßenperformance „Müllomania!“ Taucht ein in eine skurrile und unterhaltsame Welt\, in der vier Schauspielerinnen das Thema Müllvermeidung\, Plastik\, Umwelt und Natur auf einzigartige Weise präsentieren. Lasst euch von unseren Darstellern mitreißen und eine Show erleben\, die nicht nur unterhält\, sondern auch zum Nachdenken anregt. Seid dabei und unterstützt gemeinsam mit uns den Kampf gegen die Müllflut! \nDie Spielstraße: Im Sommer immer Sonntags\nImmer Sonntags im Sommer werden im Reichenberer Kiez Träume wahr: Alles\, was sonst auf der Straße nicht geht\, geht doch! Die Kinder einfach mal auf der Straße rennen und spielen\, Tischtennis oder Federball spielen\, Schwätzchen mit den Nachbarn halten\, Kaffee oder Limo trinken. lassen \nWo? Forster Str. zwischen Reichenberger Straße und Paul-Lincke-Ufer\, 10999 Berlin \nWann? Von Juni bis September (außer Sommerferien) jeden Sonntag von 14 bis 18 Uhr \nUnterstüzer:innen gesucht! Kontakt: forster@spielstrassen.de
URL:https://reichenbergerkiez.de/event/spielstrasse-forster-strasse-am-sonntag-29-09-2024/
LOCATION:Forster Staße\, Forster Straße\, Berlin\, Berlin\, 10999\, Deutschland
END:VEVENT
END:VCALENDAR